BEGIN:VCALENDAR
VERSION:2.0
PRODID:-//eventon.com NONSGML v1.0//EN
CALSCALE:GREGORIAN
METHOD:PUBLISH
BEGIN:VEVENT
UID:69e6fcdda4214
DTSTAMP:20260421T042813Z
DTSTART:20250204T170000Z
DTEND:20250204T190000Z
LOCATION:Gokartcentralen Göteborg Bergslagsgatan 6
SUMMARY:OGP Göteborg
DESCRIPTION:\nhttps://gokartcentralen.se/events/ogp-goteborg/
URL:https://gokartcentralen.se/events/ogp-goteborg/
END:VEVENT
END:VCALENDAR