BEGIN:VCALENDAR
VERSION:2.0
PRODID:-//eventon.com NONSGML v1.0//EN
CALSCALE:GREGORIAN
METHOD:PUBLISH
BEGIN:VEVENT
UID:69e732cc4fdd7
DTSTAMP:20260421T081820Z
DTSTART:20250603T160000Z
DTEND:20250603T180000Z
LOCATION:Gokartcentralen Göteborg Bergslagsgatan 6
SUMMARY:OGP Göteborg
DESCRIPTION:\nhttps://gokartcentralen.se/events/ogp-goteborg/var/ri-2.l-L1
URL:https://gokartcentralen.se/events/ogp-goteborg/var/ri-2.l-L1
END:VEVENT
END:VCALENDAR